BEGIN:VCALENDAR
VERSION:2.0
CALSCALE:GREGORIAN
PRODID:-//Diputació de Barcelona//DibaCMS//EN
BEGIN:VEVENT
UID:23311
DTSTAMP:20260424T093233
DTSTART:20211127T203000
DTEND:20211127T203000
SUMMARY:Sopar solidari de l'associació contra el càncer  
LOCATION:
METHOD:PUBLISH
X-WR-CALNAME:caldesm@caldesdemontbui.cat
X-WR-TIMEZONE:Europe/Madrid
DESCRIPTION:
URI:https://www.caldesdemontbui.cat/actualitat/agenda/sopar-solidari-de-lassociacio-contra-el-cancer-.html
CLASS:PUBLIC
END:VEVENT
END:VCALENDAR
