BEGIN:VCALENDAR
VERSION:2.0
CALSCALE:GREGORIAN
PRODID:-//Diputació de Barcelona//DibaCMS//EN
BEGIN:VEVENT
UID:23310
DTSTAMP:20260424T134132
DTSTART:20211120T180000
DTEND:20211120T180000
SUMMARY:Caldes de Montbui en concert contra el càncer
LOCATION:
METHOD:PUBLISH
X-WR-CALNAME:caldesm@caldesdemontbui.cat
X-WR-TIMEZONE:Europe/Madrid
DESCRIPTION:
URI:https://www.caldesdemontbui.cat/actualitat/agenda/caldes-de-montbui-en-concert-contra-el-cancer.html
CLASS:PUBLIC
END:VEVENT
END:VCALENDAR
