BEGIN:VCALENDAR
VERSION:2.0
CALSCALE:GREGORIAN
PRODID:-//Diputació de Barcelona//DibaCMS//EN
BEGIN:VEVENT
UID:23303
DTSTAMP:20260424T074425
DTSTART:20211207T100000
DTEND:20211207T140000
SUMMARY:Mercat de Nadal 2021. Taller infantil Ponsètia en collage i argolles de Nadal per als tovallons, amb Anna Ribot
LOCATION:
METHOD:PUBLISH
X-WR-CALNAME:caldesm@caldesdemontbui.cat
X-WR-TIMEZONE:Europe/Madrid
DESCRIPTION:
URI:https://www.caldesdemontbui.cat/actualitat/agenda/mercat-de-nadal-2021-taller-infantil-ponsetia-en-collage-i-argolles-de-nadal-per-als-tovallons-amb-anna-ribot.html
CLASS:PUBLIC
END:VEVENT
END:VCALENDAR
