BEGIN:VCALENDAR
VERSION:2.0
CALSCALE:GREGORIAN
PRODID:-//Diputació de Barcelona//DibaCMS//EN
BEGIN:VEVENT
UID:23299
DTSTAMP:20260424T074447
DTSTART:20211205T170000
DTEND:20211212T170000
SUMMARY:Mercat de Nadal 2021. Espectacle infantil Sopa de pedres, amb Jomeloguisjomelo.com
LOCATION:
METHOD:PUBLISH
X-WR-CALNAME:caldesm@caldesdemontbui.cat
X-WR-TIMEZONE:Europe/Madrid
DESCRIPTION:
URI:https://www.caldesdemontbui.cat/actualitat/agenda/mercat-de-nadal-2021-espectacle-infantil-sopa-de-pedres-amb-jomeloguisjomelocom.html
CLASS:PUBLIC
END:VEVENT
END:VCALENDAR
