BEGIN:VCALENDAR
VERSION:2.0
CALSCALE:GREGORIAN
PRODID:-//Diputació de Barcelona//DibaCMS//EN
BEGIN:VEVENT
UID:23290
DTSTAMP:20260424T130334
DTSTART:20211204T170000
DTEND:20211204T170000
SUMMARY:Mercat de Nadal 2021. Espectacle infantil 3 pomes i un tió, amb ¾ de Quinze
LOCATION:
METHOD:PUBLISH
X-WR-CALNAME:caldesm@caldesdemontbui.cat
X-WR-TIMEZONE:Europe/Madrid
DESCRIPTION:
URI:https://www.caldesdemontbui.cat/actualitat/agenda/mercat-de-nadal-2021-espectacle-infantil-3-pomes-i-un-tio-amb--de-quinze.html
CLASS:PUBLIC
END:VEVENT
END:VCALENDAR
