BEGIN:VCALENDAR
VERSION:2.0
CALSCALE:GREGORIAN
PRODID:-//Diputació de Barcelona//DibaCMS//EN
BEGIN:VEVENT
UID:23259
DTSTAMP:20260424T111445
DTSTART:20211125T184000
DTEND:20211125T184000
SUMMARY:Lectura del Manifest en motiu del 25-N
LOCATION:
METHOD:PUBLISH
X-WR-CALNAME:caldesm@caldesdemontbui.cat
X-WR-TIMEZONE:Europe/Madrid
DESCRIPTION:
URI:https://www.caldesdemontbui.cat/actualitat/agenda/lectura-del-manifest-en-motiu-del-25-n.html
CLASS:PUBLIC
END:VEVENT
END:VCALENDAR
