BEGIN:VCALENDAR
VERSION:2.0
CALSCALE:GREGORIAN
PRODID:-//Diputació de Barcelona//DibaCMS//EN
BEGIN:VEVENT
UID:23247
DTSTAMP:20260424T125851
DTSTART:20211123T100000
DTEND:20211123T123000
SUMMARY:Taller «Innova en el model de negoci amb l’SCOPE»
LOCATION:
METHOD:PUBLISH
X-WR-CALNAME:caldesm@caldesdemontbui.cat
X-WR-TIMEZONE:Europe/Madrid
DESCRIPTION:
URI:https://www.caldesdemontbui.cat/actualitat/agenda/taller-innova-en-el-model-de-negoci-amb-lscope.html
CLASS:PUBLIC
END:VEVENT
END:VCALENDAR
