BEGIN:VCALENDAR
VERSION:2.0
CALSCALE:GREGORIAN
PRODID:-//Diputació de Barcelona//DibaCMS//EN
BEGIN:VEVENT
UID:23228
DTSTAMP:20260424T111220
DTSTART:20211113T113000
DTEND:20211113T173000
SUMMARY:Caldes acull unes jornades sobre mite i realitat dels processos a les bruixes del segle XVII 
LOCATION:Carrer del Pont, 3 08140 Caldes de Montbui
METHOD:PUBLISH
X-WR-CALNAME:caldesm@caldesdemontbui.cat
X-WR-TIMEZONE:Europe/Madrid
DESCRIPTION:El 12, 13 i 14 de novembre Caldes celebrarà unes  jornades anomenades “Juntabruixes de Caldes de Montbui”  dedicades a conèixer la realitat dels processos a les bruixes del segle XVII

URI:https://www.caldesdemontbui.cat/actualitat/agenda/caldes-acull-unes-jornades-sobre-mite-i-realitat-dels-processos-a-les-bruixes-del-segle-xvii-.html
CLASS:PUBLIC
END:VEVENT
END:VCALENDAR
