BEGIN:VCALENDAR
VERSION:2.0
CALSCALE:GREGORIAN
PRODID:-//Diputació de Barcelona//DibaCMS//EN
BEGIN:VEVENT
UID:23120
DTSTAMP:20260425T151607
DTSTART:20211009T080000
DTEND:20211009T235900
SUMMARY:Festa Major 2021 
LOCATION:
METHOD:PUBLISH
X-WR-CALNAME:caldesm@caldesdemontbui.cat
X-WR-TIMEZONE:Europe/Madrid
DESCRIPTION:
URI:https://www.caldesdemontbui.cat/actualitat/agenda/festa-major-2021-.html
CLASS:PUBLIC
END:VEVENT
END:VCALENDAR
