BEGIN:VCALENDAR
VERSION:2.0
CALSCALE:GREGORIAN
PRODID:-//Diputació de Barcelona//DibaCMS//EN
BEGIN:VEVENT
UID:23080
DTSTAMP:20260425T152156
DTSTART:20211005T080000
DTEND:20211005T130000
SUMMARY:La deixalleria mòbil s’instal•larà el dimarts 5 d'octubre, de 8 a 13 h  
LOCATION:
METHOD:PUBLISH
X-WR-CALNAME:caldesm@caldesdemontbui.cat
X-WR-TIMEZONE:Europe/Madrid
DESCRIPTION:
URI:https://www.caldesdemontbui.cat/actualitat/agenda/la-deixalleria-mobil-sinstallara-el-dimarts-5-doctubre-de-8-a-13-h-.html
CLASS:PUBLIC
END:VEVENT
END:VCALENDAR
