BEGIN:VCALENDAR
VERSION:2.0
CALSCALE:GREGORIAN
PRODID:-//Diputació de Barcelona//DibaCMS//EN
BEGIN:VEVENT
UID:23079
DTSTAMP:20260425T151657
DTSTART:20210928T180000
DTEND:20210928T180000
SUMMARY:Taller “ Famílies sense armaris!”
LOCATION:C. Mestre Gregori Montserrat, 4 08140 Caldes de Montbui
METHOD:PUBLISH
X-WR-CALNAME:caldesm@caldesdemontbui.cat
X-WR-TIMEZONE:Europe/Madrid
DESCRIPTION:
URI:https://www.caldesdemontbui.cat/actualitat/agenda/23079-taller--families-sense-armaris.html
CLASS:PUBLIC
END:VEVENT
END:VCALENDAR
