BEGIN:VCALENDAR
VERSION:2.0
CALSCALE:GREGORIAN
PRODID:-//Diputació de Barcelona//DibaCMS//EN
BEGIN:VEVENT
UID:23062
DTSTAMP:20260425T175648
DTSTART:20210915T171500
DTEND:20210915T171500
SUMMARY:Exposició “Més enllà dels tatuatges. Les maras al Salvador, Honduras i Guatemala”
LOCATION:C. de Font i Boet, 4 08140 Caldes de Montbui
METHOD:PUBLISH
X-WR-CALNAME:caldesm@caldesdemontbui.cat
X-WR-TIMEZONE:Europe/Madrid
DESCRIPTION:
URI:https://www.caldesdemontbui.cat/actualitat/agenda/exposicio-mes-enlla-dels-tatuatges-les-maras-al-salvador-honduras-i-guatemala.html
CLASS:PUBLIC
END:VEVENT
END:VCALENDAR
