BEGIN:VCALENDAR
VERSION:2.0
CALSCALE:GREGORIAN
PRODID:-//Diputació de Barcelona//DibaCMS//EN
BEGIN:VEVENT
UID:22971
DTSTAMP:20260425T205505
DTSTART:20210716T173000
DTEND:20210716T173000
SUMMARY:Xerrada " Como educar y no morir en el intento?"
LOCATION:
METHOD:PUBLISH
X-WR-CALNAME:caldesm@caldesdemontbui.cat
X-WR-TIMEZONE:Europe/Madrid
DESCRIPTION:
URI:https://www.caldesdemontbui.cat/actualitat/agenda/xerrada--como-educar-y-no-morir-en-el-intento.html
CLASS:PUBLIC
END:VEVENT
END:VCALENDAR
