BEGIN:VCALENDAR
VERSION:2.0
CALSCALE:GREGORIAN
PRODID:-//Diputació de Barcelona//DibaCMS//EN
BEGIN:VEVENT
UID:22948
DTSTAMP:20260425T191832
DTSTART:20210710T220000
DTEND:20210710T220000
SUMMARY:Concertàrium, el concert de l'Escaldàrium - Escaldàrium 2021  
LOCATION:
METHOD:PUBLISH
X-WR-CALNAME:caldesm@caldesdemontbui.cat
X-WR-TIMEZONE:Europe/Madrid
DESCRIPTION:Entrades exhaurides

URI:https://www.caldesdemontbui.cat/actualitat/agenda/concertarium-el-concert-de-lescaldarium-escaldarium-2021-.html
CLASS:PUBLIC
END:VEVENT
END:VCALENDAR
