BEGIN:VCALENDAR
VERSION:2.0
CALSCALE:GREGORIAN
PRODID:-//Diputació de Barcelona//DibaCMS//EN
BEGIN:VEVENT
UID:22923
DTSTAMP:20260425T180830
DTSTART:20210708T220000
DTEND:20210708T220000
SUMMARY:Cinema "Jurassic World. El regne caigut" -  Bombolles d'Estiu   
LOCATION:
METHOD:PUBLISH
X-WR-CALNAME:caldesm@caldesdemontbui.cat
X-WR-TIMEZONE:Europe/Madrid
DESCRIPTION:Reserva d'invitacions a www.caldescultura.cat

URI:https://www.caldesdemontbui.cat/actualitat/agenda/cinema-jurassic-world-el-regne-caigut-bombolles-destiu-.html
CLASS:PUBLIC
END:VEVENT
END:VCALENDAR
