BEGIN:VCALENDAR
VERSION:2.0
CALSCALE:GREGORIAN
PRODID:-//Diputació de Barcelona//DibaCMS//EN
BEGIN:VEVENT
UID:22905
DTSTAMP:20260426T001537
DTSTART:20210622T170000
DTEND:20210926T140000
SUMMARY:Exposició itinerant “L’home nu. Tot despullant els arquetips de la masculinitat”,de l’11 de juny al 26 de setembre
LOCATION:Plaça de la Font del Lleó, 20 08140 Caldes de Montbui
METHOD:PUBLISH
X-WR-CALNAME:caldesm@caldesdemontbui.cat
X-WR-TIMEZONE:Europe/Madrid
DESCRIPTION:
URI:https://www.caldesdemontbui.cat/actualitat/agenda/exposicio-itinerant-lhome-nu-tot-despullant-els-arquetips-de-la-masculinitatde-l11-de-juny-al-26-de-setembre.html
CLASS:PUBLIC
END:VEVENT
END:VCALENDAR
