BEGIN:VCALENDAR
VERSION:2.0
CALSCALE:GREGORIAN
PRODID:-//Diputació de Barcelona//DibaCMS//EN
BEGIN:VEVENT
UID:22829
DTSTAMP:20260426T000730
DTSTART:20210612T180000
DTEND:20210612T180000
SUMMARY:Inauguració de l'exposició “100 números,100 portades!” del 12 al 27 de juny, a la Sala Delger
LOCATION:Carrer del Forn, 8bis 08140 Caldes de Montbui
METHOD:PUBLISH
X-WR-CALNAME:caldesm@caldesdemontbui.cat
X-WR-TIMEZONE:Europe/Madrid
DESCRIPTION:
URI:https://www.caldesdemontbui.cat/actualitat/agenda/inauguracio-de-lexposicio-100-numeros100-portades-del-12-al-27-de-juny-a-la-sala-delger.html
CLASS:PUBLIC
END:VEVENT
END:VCALENDAR
