BEGIN:VCALENDAR
VERSION:2.0
CALSCALE:GREGORIAN
PRODID:-//Diputació de Barcelona//DibaCMS//EN
BEGIN:VEVENT
UID:22787
DTSTAMP:20260426T002749
DTSTART:20210605T180000
DTEND:20210605T180000
SUMMARY:Caldesflor- Corpus 2021. Inauguració de la Mostra Floral, passada per les catifes i inauguració de l'exposició.
LOCATION:
METHOD:PUBLISH
X-WR-CALNAME:caldesm@caldesdemontbui.cat
X-WR-TIMEZONE:Europe/Madrid
DESCRIPTION:
URI:https://www.caldesdemontbui.cat/actualitat/agenda/caldesflor-corpus-2021-inauguracio-de-la-mostra-floral-passada-per-les-catifes-i-inauguracio-de-lexposicio.html
CLASS:PUBLIC
END:VEVENT
END:VCALENDAR
