BEGIN:VCALENDAR
VERSION:2.0
CALSCALE:GREGORIAN
PRODID:-//Diputació de Barcelona//DibaCMS//EN
BEGIN:VEVENT
UID:22758
DTSTAMP:20260419T184319
DTSTART:20210602T180000
DTEND:20210602T180000
SUMMARY:Taula de Cooperació, Solidaritat, Pau i Drets Humans
LOCATION:
METHOD:PUBLISH
X-WR-CALNAME:caldesm@caldesdemontbui.cat
X-WR-TIMEZONE:Europe/Madrid
DESCRIPTION:
URI:https://www.caldesdemontbui.cat/actualitat/agenda/taula-de-cooperacio-solidaritat-pau-i-drets-humans.html
CLASS:PUBLIC
END:VEVENT
END:VCALENDAR
