BEGIN:VCALENDAR
VERSION:2.0
CALSCALE:GREGORIAN
PRODID:-//Diputació de Barcelona//DibaCMS//EN
BEGIN:VEVENT
UID:22732
DTSTAMP:20260426T001714
DTSTART:20210523T123000
DTEND:20210523T123000
SUMMARY:Concert "Tot cor gospel"
LOCATION:Plaça de l'Església, 12 08140 Caldes de Montbui
METHOD:PUBLISH
X-WR-CALNAME:caldesm@caldesdemontbui.cat
X-WR-TIMEZONE:Europe/Madrid
DESCRIPTION:
URI:https://www.caldesdemontbui.cat/actualitat/agenda/concert-tot-cor-gospel.html
CLASS:PUBLIC
END:VEVENT
END:VCALENDAR
