BEGIN:VCALENDAR
VERSION:2.0
CALSCALE:GREGORIAN
PRODID:-//Diputació de Barcelona//DibaCMS//EN
BEGIN:VEVENT
UID:22688
DTSTAMP:20260425T010619
DTSTART:20210515T103000
DTEND:20210515T103000
SUMMARY:Curs per adults de cap de setmana de “Serigrafia”
LOCATION:
METHOD:PUBLISH
X-WR-CALNAME:caldesm@caldesdemontbui.cat
X-WR-TIMEZONE:Europe/Madrid
DESCRIPTION:
URI:https://www.caldesdemontbui.cat/actualitat/agenda/curs-per-adults-de-cap-de-setmana-de-serigrafia.html
CLASS:PUBLIC
END:VEVENT
END:VCALENDAR
