BEGIN:VCALENDAR
VERSION:2.0
CALSCALE:GREGORIAN
PRODID:-//Diputació de Barcelona//DibaCMS//EN
BEGIN:VEVENT
UID:22633
DTSTAMP:20260426T033011
DTSTART:20210511T100000
DTEND:20210511T124000
SUMMARY:Acció formativa d’interès empresarial «Millorar la gestió per reduir despeses»
LOCATION:
METHOD:PUBLISH
X-WR-CALNAME:caldesm@caldesdemontbui.cat
X-WR-TIMEZONE:Europe/Madrid
DESCRIPTION:
URI:https://www.caldesdemontbui.cat/actualitat/agenda/22633-accio-formativa-dinteres-empresarial-millorar-la-gestio-per-reduir-despeses.html
CLASS:PUBLIC
END:VEVENT
END:VCALENDAR
