BEGIN:VCALENDAR
VERSION:2.0
CALSCALE:GREGORIAN
PRODID:-//Diputació de Barcelona//DibaCMS//EN
BEGIN:VEVENT
UID:22590
DTSTAMP:20260426T031810
DTSTART:20210410T110000
DTEND:20210410T110000
SUMMARY:Exposició "Creatividad"
LOCATION:
METHOD:PUBLISH
X-WR-CALNAME:caldesm@caldesdemontbui.cat
X-WR-TIMEZONE:Europe/Madrid
DESCRIPTION:
URI:https://www.caldesdemontbui.cat/actualitat/agenda/exposicio-creatividad.html
CLASS:PUBLIC
END:VEVENT
END:VCALENDAR
