BEGIN:VCALENDAR
VERSION:2.0
CALSCALE:GREGORIAN
PRODID:-//Diputació de Barcelona//DibaCMS//EN
BEGIN:VEVENT
UID:22547
DTSTAMP:20260425T050225
DTSTART:20210401T180000
DTEND:20210401T180000
SUMMARY:Hora del Conte "Va de llibres!"
LOCATION:Santa Teresa, 3-5 08140 Caldes de Montbui
METHOD:PUBLISH
X-WR-CALNAME:caldesm@caldesdemontbui.cat
X-WR-TIMEZONE:Europe/Madrid
DESCRIPTION:
URI:https://www.caldesdemontbui.cat/actualitat/agenda/hora-del-conte-va-de-llibres.html
CLASS:PUBLIC
END:VEVENT
END:VCALENDAR
