BEGIN:VCALENDAR
VERSION:2.0
CALSCALE:GREGORIAN
PRODID:-//Diputació de Barcelona//DibaCMS//EN
BEGIN:VEVENT
UID:22507
DTSTAMP:20260425T024331
DTSTART:20210313T100000
DTEND:20210313T140000
SUMMARY:Campanya de donació de sang 
LOCATION:Carrer del Pont, 3 08140 Caldes de Montbui
METHOD:PUBLISH
X-WR-CALNAME:caldesm@caldesdemontbui.cat
X-WR-TIMEZONE:Europe/Madrid
DESCRIPTION:
URI:https://www.caldesdemontbui.cat/actualitat/agenda/22507-campanya-de-donacio-de-sang-.html
CLASS:PUBLIC
END:VEVENT
END:VCALENDAR
