BEGIN:VCALENDAR
VERSION:2.0
CALSCALE:GREGORIAN
PRODID:-//Diputació de Barcelona//DibaCMS//EN
BEGIN:VEVENT
UID:22499
DTSTAMP:20260425T014247
DTSTART:20210308T120000
DTEND:20210308T120000
SUMMARY:Lectura del Manifest pel 8 de març, Dia Internacional de les dones
LOCATION:
METHOD:PUBLISH
X-WR-CALNAME:caldesm@caldesdemontbui.cat
X-WR-TIMEZONE:Europe/Madrid
DESCRIPTION:8 de març, Dia Internacional de les Dones. Activitats a Caldes de Montbui

URI:https://www.caldesdemontbui.cat/actualitat/agenda/lectura-del-manifest-pel-8-de-marc-dia-internacional-de-les-dones.html
CLASS:PUBLIC
END:VEVENT
END:VCALENDAR
