BEGIN:VCALENDAR
VERSION:2.0
CALSCALE:GREGORIAN
PRODID:-//Diputació de Barcelona//DibaCMS//EN
BEGIN:VEVENT
UID:22495
DTSTAMP:20260425T051111
DTSTART:20210306T113000
DTEND:20210306T113000
SUMMARY:Ara més que mai, visibilitzem l'art i la cultura de les dones calderines
LOCATION:
METHOD:PUBLISH
X-WR-CALNAME:caldesm@caldesdemontbui.cat
X-WR-TIMEZONE:Europe/Madrid
DESCRIPTION:8 de març, Dia Internacional de les Dones. Activitats a Caldes de Montbui

URI:https://www.caldesdemontbui.cat/actualitat/agenda/ara-mes-que-mai-visibilitzem-lart-i-la-cultura-de-les-dones-calderines.html
CLASS:PUBLIC
END:VEVENT
END:VCALENDAR
