BEGIN:VCALENDAR
VERSION:2.0
CALSCALE:GREGORIAN
PRODID:-//Diputació de Barcelona//DibaCMS//EN
BEGIN:VEVENT
UID:22471
DTSTAMP:20260426T014825
DTSTART:20210601T110000
DTEND:20210601T120000
SUMMARY:Portes obertes 21/22 a l’Escola d’Adults Mpal. El Roure Gros: Xerrada informativa i visita guiada pel centre
LOCATION:Gregori Montserrat, 4 08140 Caldes de Montbui
METHOD:PUBLISH
X-WR-CALNAME:caldesm@caldesdemontbui.cat
X-WR-TIMEZONE:Europe/Madrid
DESCRIPTION:
URI:https://www.caldesdemontbui.cat/actualitat/agenda/portes-obertes-2122-a-lescola-dadults-mpal-el-roure-gros-xerrada-informativa-i-visita-guiada-pel-centre.html
CLASS:PUBLIC
END:VEVENT
END:VCALENDAR
