BEGIN:VCALENDAR
VERSION:2.0
CALSCALE:GREGORIAN
PRODID:-//Diputació de Barcelona//DibaCMS//EN
BEGIN:VEVENT
UID:22467
DTSTAMP:20260424T234152
DTSTART:20210424T093000
DTEND:20210424T093000
SUMMARY:Portes obertes 21/22 a l’EBM La Lluna:  visita guiada pel centre (presencial amb inscripció prèvia)
LOCATION:M. Aurèlia Capmany, 1 08140 Caldes de Montbui
METHOD:PUBLISH
X-WR-CALNAME:caldesm@caldesdemontbui.cat
X-WR-TIMEZONE:Europe/Madrid
DESCRIPTION:
URI:https://www.caldesdemontbui.cat/actualitat/agenda/portes-obertes-2122-a-lebm-la-lluna-visita-guiada-pel-centre-presencial-amb-inscripcio-previa.html
CLASS:PUBLIC
END:VEVENT
END:VCALENDAR
