BEGIN:VCALENDAR
VERSION:2.0
CALSCALE:GREGORIAN
PRODID:-//Diputació de Barcelona//DibaCMS//EN
BEGIN:VEVENT
UID:22459
DTSTAMP:20260425T011834
DTSTART:20210426T170000
DTEND:20210426T170000
SUMMARY:Portes obertes 21/22 a l’Institut Manolo Hugué: Xerrada informativa per Batxillerat (telemàtica amb inscripció prèvia)
LOCATION:Josep Germà, 2 08140 Caldes de Montbui
METHOD:PUBLISH
X-WR-CALNAME:caldesm@caldesdemontbui.cat
X-WR-TIMEZONE:Europe/Madrid
DESCRIPTION:
URI:https://www.caldesdemontbui.cat/actualitat/agenda/portes-obertes-2122-a-linstitut-manolo-hugue-xerrada-informativa-per-batxillerat-telematica-amb-inscripcio-previa.html
CLASS:PUBLIC
END:VEVENT
END:VCALENDAR
