BEGIN:VCALENDAR
VERSION:2.0
CALSCALE:GREGORIAN
PRODID:-//Diputació de Barcelona//DibaCMS//EN
BEGIN:VEVENT
UID:22454
DTSTAMP:20260420T230836
DTSTART:20210227T093000
DTEND:20210227T113000
SUMMARY:Portes obertes 21/22 a l’Escola Pia: Entrevista (presencial amb inscripció prèvia) 
LOCATION:Infantil i Primària: Av. Josep Fontcuberta, 166 / ESO i Batxillerat: Av. Pi i Margall, 157 08140 Caldes de Montbui
METHOD:PUBLISH
X-WR-CALNAME:caldesm@caldesdemontbui.cat
X-WR-TIMEZONE:Europe/Madrid
DESCRIPTION:
URI:https://www.caldesdemontbui.cat/actualitat/agenda/portes-obertes-2122-a-lescola-pia-entrevista-presencial-amb-inscripcio-previa-.html
CLASS:PUBLIC
END:VEVENT
END:VCALENDAR
