BEGIN:VCALENDAR
VERSION:2.0
CALSCALE:GREGORIAN
PRODID:-//Diputació de Barcelona//DibaCMS//EN
BEGIN:VEVENT
UID:22451
DTSTAMP:20260425T022534
DTSTART:20210302T173000
DTEND:20210302T173000
SUMMARY:Portes obertes 21/22 a l’Escola Montbui: Visita guiada pel centre (presencial amb inscripció prèvia)
LOCATION:C. Dr. Fleming S/N 08140 Caldes de Montbui
METHOD:PUBLISH
X-WR-CALNAME:caldesm@caldesdemontbui.cat
X-WR-TIMEZONE:Europe/Madrid
DESCRIPTION:
URI:https://www.caldesdemontbui.cat/actualitat/agenda/22451-portes-obertes-2122-a-lescola-montbui-visita-guiada-pel-centre-presencial-amb-inscripcio-previa.html
CLASS:PUBLIC
END:VEVENT
END:VCALENDAR
