BEGIN:VCALENDAR
VERSION:2.0
CALSCALE:GREGORIAN
PRODID:-//Diputació de Barcelona//DibaCMS//EN
BEGIN:VEVENT
UID:22445
DTSTAMP:20260425T014206
DTSTART:20210311T170000
DTEND:20210311T170000
SUMMARY:Portes obertes 21/22 a l’Escola El  Farell: Xerrada informativa i visita guiada pel centre (presencial amb inscripció prèvia)
LOCATION:Zona Esportiva, s/n 08140 Caldes de Montbui
METHOD:PUBLISH
X-WR-CALNAME:caldesm@caldesdemontbui.cat
X-WR-TIMEZONE:Europe/Madrid
DESCRIPTION:
URI:https://www.caldesdemontbui.cat/actualitat/agenda/22445-portes-obertes-2122-a-lescola-el-farell-xerrada-informativa-i-visita-guiada-pel-centre-presencial-amb-inscripcio-previa.html
CLASS:PUBLIC
END:VEVENT
END:VCALENDAR
