BEGIN:VCALENDAR
VERSION:2.0
CALSCALE:GREGORIAN
PRODID:-//Diputació de Barcelona//DibaCMS//EN
BEGIN:VEVENT
UID:22440
DTSTAMP:20260425T052514
DTSTART:20210304T183000
DTEND:20210304T183000
SUMMARY:Portes obertes 21/22 a l’Escola El  Farell: Xerrada informativa (telemàtica amb inscripció prèvia)
LOCATION:Zona Esportiva, s/n 08140 Caldes de Montbui
METHOD:PUBLISH
X-WR-CALNAME:caldesm@caldesdemontbui.cat
X-WR-TIMEZONE:Europe/Madrid
DESCRIPTION:
URI:https://www.caldesdemontbui.cat/actualitat/agenda/portes-obertes-2122-a-lescola-el-farell-xerrada-informativa-telematica-amb-inscripcio-previa.html
CLASS:PUBLIC
END:VEVENT
END:VCALENDAR
