BEGIN:VCALENDAR
VERSION:2.0
CALSCALE:GREGORIAN
PRODID:-//Diputació de Barcelona//DibaCMS//EN
BEGIN:VEVENT
UID:22424
DTSTAMP:20260425T024036
DTSTART:20210219T080000
DTEND:20210219T130000
SUMMARY:La deixalleria mòbil s’instal•la avui, de 8 a 13 h.
LOCATION:
METHOD:PUBLISH
X-WR-CALNAME:caldesm@caldesdemontbui.cat
X-WR-TIMEZONE:Europe/Madrid
DESCRIPTION:
URI:https://www.caldesdemontbui.cat/actualitat/agenda/22424-la-deixalleria-mobil-sinstalla-avui-de-8-a-13-h.html
CLASS:PUBLIC
END:VEVENT
END:VCALENDAR
