BEGIN:VCALENDAR
VERSION:2.0
CALSCALE:GREGORIAN
PRODID:-//Diputació de Barcelona//DibaCMS//EN
BEGIN:VEVENT
UID:21654
DTSTAMP:20260425T141520
DTSTART:20200612T180000
DTEND:20200612T200000
SUMMARY:Exposició “Presos Polítics a l’Espanya contemporània”de Santiago Sierra, al Museu Thermalia, del 5 al 24 de juny
LOCATION:Plaça de la Font del Lleó, 20 08140 Caldes de Montbui
METHOD:PUBLISH
X-WR-CALNAME:caldesm@caldesdemontbui.cat
X-WR-TIMEZONE:Europe/Madrid
DESCRIPTION:
URI:https://www.caldesdemontbui.cat/actualitat/agenda/21654-exposicio-presos-politics-a-lespanya-contemporaniade-santiago-sierra-al-museu-thermalia-del-5-al-24-de-juny.html
CLASS:PUBLIC
END:VEVENT
END:VCALENDAR
