BEGIN:VCALENDAR
VERSION:2.0
CALSCALE:GREGORIAN
PRODID:-//Diputació de Barcelona//DibaCMS//EN
BEGIN:VEVENT
UID:21417
DTSTAMP:20260425T183311
DTSTART:20200420T190000
DTEND:20200420T190000
SUMMARY:Surt al balcó a tocar amb l’Escola Municipal de Música Joan Valls
LOCATION:
METHOD:PUBLISH
X-WR-CALNAME:caldesm@caldesdemontbui.cat
X-WR-TIMEZONE:Europe/Madrid
DESCRIPTION:
@page { margin: 2cm }
		p { margin-bottom: 0.25cm; direction: ltr; color: #000000; line-height: 115%; orphans: 2; widows: 2 }
		p.western { font-family: "Cambria", serif; font-size: 12pt; so-language: ca-ES }
		p.cjk { font-family: "MS Mincho", "ＭＳ 明朝", monospace; font-size: 12pt }
		p.ctl { font-family: "Times New Roman", serif; font-size: 12pt; so-language: ar-SA }
		a:link { so-language: zxx }



L’EMM Joan Valls proposa a la ciutadania que tingui un instrument de música, sortir el dia 20 d’abril, a les 19 h, al balcó a tocar «l’Himne de l’Alegria». En els documents adjunts trobareu les partitures

URI:https://www.caldesdemontbui.cat/actualitat/agenda/21417-surt-al-balco-a-tocar-amb-lescola-municipal-de-musica-joan-valls.html
CLASS:PUBLIC
END:VEVENT
END:VCALENDAR
