BEGIN:VCALENDAR
VERSION:2.0
CALSCALE:GREGORIAN
PRODID:-//Diputació de Barcelona//DibaCMS//EN
BEGIN:VEVENT
UID:21156
DTSTAMP:20260425T212639
DTSTART:20200307T103000
DTEND:20200307T133000
SUMMARY:8 de març, Dia internacional de les dones. 8 de març amb Creu Roja
LOCATION:
METHOD:PUBLISH
X-WR-CALNAME:caldesm@caldesdemontbui.cat
X-WR-TIMEZONE:Europe/Madrid
DESCRIPTION:
URI:https://www.caldesdemontbui.cat/actualitat/agenda/8-de-marc-dia-internacional-de-les-dones-8-de-marc-amb-creu-roja.html
CLASS:PUBLIC
END:VEVENT
END:VCALENDAR
