BEGIN:VCALENDAR
VERSION:2.0
CALSCALE:GREGORIAN
PRODID:-//Diputació de Barcelona//DibaCMS//EN
BEGIN:VEVENT
UID:21149
DTSTAMP:20260425T200641
DTSTART:20200310T153000
DTEND:20200313T210000
SUMMARY:Exposició «Pioneres del municipalisme feminista 1934-1939», del 9 al 13 de març
LOCATION:Santa Teresa, 3-5 08140 Caldes de Montbui
METHOD:PUBLISH
X-WR-CALNAME:caldesm@caldesdemontbui.cat
X-WR-TIMEZONE:Europe/Madrid
DESCRIPTION:
URI:https://www.caldesdemontbui.cat/actualitat/agenda/exposicio-pioneres-del-municipalisme-feminista-1934-1939-del-9-al-13-de-marc.html
CLASS:PUBLIC
END:VEVENT
END:VCALENDAR
