BEGIN:VCALENDAR
VERSION:2.0
CALSCALE:GREGORIAN
PRODID:-//Diputació de Barcelona//DibaCMS//EN
BEGIN:VEVENT
UID:21107
DTSTAMP:20260425T215054
DTSTART:20200312T180000
DTEND:20200312T180000
SUMMARY:Curs 2020-2021: Jornada de portes obertes a l'IES Pic del Vent. Xerrada informativa i posterior visita guiada pel centre
LOCATION:Maria Aurèlia Capmany, 2 08140 Caldes de Montbui
METHOD:PUBLISH
X-WR-CALNAME:caldesm@caldesdemontbui.cat
X-WR-TIMEZONE:Europe/Madrid
DESCRIPTION:
URI:https://www.caldesdemontbui.cat/actualitat/agenda/curs-2020-2021-jornada-de-portes-obertes-a-lies-pic-del-vent-xerrada-informativa-i-posterior-visita-guiada-pel-centre.html
CLASS:PUBLIC
END:VEVENT
END:VCALENDAR
