BEGIN:VCALENDAR
VERSION:2.0
CALSCALE:GREGORIAN
PRODID:-//Diputació de Barcelona//DibaCMS//EN
BEGIN:VEVENT
UID:21105
DTSTAMP:20260425T230336
DTSTART:20200307T100000
DTEND:20200307T130000
SUMMARY:Curs 2020-2021: Jornada de portes obertes a l'Escola Pia. Xerrades informatives
LOCATION:Infantil i Primària: Av. Josep Fontcuberta, 166 / ESO i Batxillerat: Av. Pi i Margall, 157 08140 Caldes de Montbui
METHOD:PUBLISH
X-WR-CALNAME:caldesm@caldesdemontbui.cat
X-WR-TIMEZONE:Europe/Madrid
DESCRIPTION:
URI:https://www.caldesdemontbui.cat/actualitat/agenda/curs-2020-2021-jornada-de-portes-obertes-a-lescola-pia-xerrades-informatives.html
CLASS:PUBLIC
END:VEVENT
END:VCALENDAR
