BEGIN:VCALENDAR
VERSION:2.0
CALSCALE:GREGORIAN
PRODID:-//Diputació de Barcelona//DibaCMS//EN
BEGIN:VEVENT
UID:21099
DTSTAMP:20260420T064432
DTSTART:20200314T103000
DTEND:20200314T133000
SUMMARY:Curs 2020-2021: Jornada de portes obertes a l'Escola El Farell. Xerrada informativa i posterior visita guiada pel centre
LOCATION:Zona Esportiva, s/n 08140 Caldes de Montbui
METHOD:PUBLISH
X-WR-CALNAME:caldesm@caldesdemontbui.cat
X-WR-TIMEZONE:Europe/Madrid
DESCRIPTION:
URI:https://www.caldesdemontbui.cat/actualitat/agenda/curs-2020-2021-jornada-de-portes-obertes-a-lescola-el-farell-xerrada-informativa-i-posterior-visita-guiada-pel-centre.html
CLASS:PUBLIC
END:VEVENT
END:VCALENDAR
