BEGIN:VCALENDAR
VERSION:2.0
CALSCALE:GREGORIAN
PRODID:-//Diputació de Barcelona//DibaCMS//EN
BEGIN:VEVENT
UID:21079
DTSTAMP:20260425T201153
DTSTART:20200318T093000
DTEND:20200318T133000
SUMMARY:Formació empresarial per a empreses i emprenedors/es: «La gestió del marge:el secret del benefici»
LOCATION:Garraf, 19. Polígon Industrial La Borda 08140 Caldes de Montbui
METHOD:PUBLISH
X-WR-CALNAME:caldesm@caldesdemontbui.cat
X-WR-TIMEZONE:Europe/Madrid
DESCRIPTION:
URI:https://www.caldesdemontbui.cat/actualitat/agenda/formacio-empresarial-per-a-empreses-i-emprenedorses-la-gestio-del-margeel-secret-del-benefici.html
CLASS:PUBLIC
END:VEVENT
END:VCALENDAR
