BEGIN:VCALENDAR
VERSION:2.0
CALSCALE:GREGORIAN
PRODID:-//Diputació de Barcelona//DibaCMS//EN
BEGIN:VEVENT
UID:21074
DTSTAMP:20260425T230235
DTSTART:20200221T193000
DTEND:20200221T193000
SUMMARY:Concert de guitarra a càrrec de Rafel Sala
LOCATION:Plaça de la Font del lleó, 11 08140 Caldes de Montbui
METHOD:PUBLISH
X-WR-CALNAME:caldesm@caldesdemontbui.cat
X-WR-TIMEZONE:Europe/Madrid
DESCRIPTION:
URI:https://www.caldesdemontbui.cat/actualitat/agenda/concert-de-guitarra-a-carrec-de-rafel-sala.html
CLASS:PUBLIC
END:VEVENT
END:VCALENDAR
