BEGIN:VCALENDAR
VERSION:2.0
CALSCALE:GREGORIAN
PRODID:-//Diputació de Barcelona//DibaCMS//EN
BEGIN:VEVENT
UID:21070
DTSTAMP:20260425T212549
DTSTART:20200308T073000
DTEND:20200308T073000
SUMMARY:Caminada popular 2020
LOCATION:
METHOD:PUBLISH
X-WR-CALNAME:caldesm@caldesdemontbui.cat
X-WR-TIMEZONE:Europe/Madrid
DESCRIPTION:
URI:https://www.caldesdemontbui.cat/actualitat/agenda/caminada-popular-2020.html
CLASS:PUBLIC
END:VEVENT
END:VCALENDAR
