BEGIN:VCALENDAR
VERSION:2.0
CALSCALE:GREGORIAN
PRODID:-//Diputació de Barcelona//DibaCMS//EN
BEGIN:VEVENT
UID:21056
DTSTAMP:20260425T230809
DTSTART:20200218T163000
DTEND:20200218T163000
SUMMARY:Música i bon humor amb el Grup de playback de l'Esplai de gent gran de Sentmenat
LOCATION:
METHOD:PUBLISH
X-WR-CALNAME:caldesm@caldesdemontbui.cat
X-WR-TIMEZONE:Europe/Madrid
DESCRIPTION:
URI:https://www.caldesdemontbui.cat/actualitat/agenda/musica-i-bon-humor-amb-el-grup-de-playback-de-lesplai-de-gent-gran-de-sentmenat.html
CLASS:PUBLIC
END:VEVENT
END:VCALENDAR
