BEGIN:VCALENDAR
VERSION:2.0
CALSCALE:GREGORIAN
PRODID:-//Diputació de Barcelona//DibaCMS//EN
BEGIN:VEVENT
UID:21037
DTSTAMP:20260425T230646
DTSTART:20200212T190000
DTEND:20200212T190000
SUMMARY:Xerrada "Sexualitat en la maduresa", a càrrec de la Dra. Eulàlia Cladelles
LOCATION:
METHOD:PUBLISH
X-WR-CALNAME:caldesm@caldesdemontbui.cat
X-WR-TIMEZONE:Europe/Madrid
DESCRIPTION:Cicle com podem millorar la nostra salut

URI:https://www.caldesdemontbui.cat/actualitat/agenda/xerrada-sexualitat-en-la-maduresa-a-carrec-de-la-dra-eulalia-cladelles.html
CLASS:PUBLIC
END:VEVENT
END:VCALENDAR
