BEGIN:VCALENDAR
VERSION:2.0
CALSCALE:GREGORIAN
PRODID:-//Diputació de Barcelona//DibaCMS//EN
BEGIN:VEVENT
UID:21036
DTSTAMP:20260426T003811
DTSTART:20200212T160000
DTEND:20200212T160000
SUMMARY:Parlem de salut amb M. Luz Talavera
LOCATION:Buenos Aires, 16-18 08140 Caldes de Montbui
METHOD:PUBLISH
X-WR-CALNAME:caldesm@caldesdemontbui.cat
X-WR-TIMEZONE:Europe/Madrid
DESCRIPTION:
URI:https://www.caldesdemontbui.cat/actualitat/agenda/parlem-de-salut-amb-m-luz-talavera.html
CLASS:PUBLIC
END:VEVENT
END:VCALENDAR
