BEGIN:VCALENDAR
VERSION:2.0
CALSCALE:GREGORIAN
PRODID:-//Diputació de Barcelona//DibaCMS//EN
BEGIN:VEVENT
UID:20998
DTSTAMP:20260425T230917
DTSTART:20200131T200000
DTEND:20200216T133000
SUMMARY:Exposició “Tancant cercles, obrint perspectives” de Conxita Pladevall 
LOCATION:Carrer del Forn, 8bis 08140 Caldes de Montbui
METHOD:PUBLISH
X-WR-CALNAME:caldesm@caldesdemontbui.cat
X-WR-TIMEZONE:Europe/Madrid
DESCRIPTION:
URI:https://www.caldesdemontbui.cat/actualitat/agenda/exposicio-tancant-cercles-obrint-perspectives-de-conxita-pladevall-.html
CLASS:PUBLIC
END:VEVENT
END:VCALENDAR
