BEGIN:VCALENDAR
VERSION:2.0
CALSCALE:GREGORIAN
PRODID:-//Diputació de Barcelona//DibaCMS//EN
BEGIN:VEVENT
UID:20956
DTSTAMP:20260425T230936
DTSTART:20200126T063000
DTEND:20200126T063000
SUMMARY:10a etapa del GR-7. Cabra del Camp - Figuerola del Camp
LOCATION:
METHOD:PUBLISH
X-WR-CALNAME:caldesm@caldesdemontbui.cat
X-WR-TIMEZONE:Europe/Madrid
DESCRIPTION:
URI:https://www.caldesdemontbui.cat/actualitat/agenda/10a-etapa-del-gr-7-cabra-del-camp-figuerola-del-camp.html
CLASS:PUBLIC
END:VEVENT
END:VCALENDAR
